Workbook
Name その他の支出: #REF!
Name その他の収入: #REF!
Name ふれあい・いきいきサロン事業: #REF!
Name ふれあい事業: #REF!
Name 見守りネットワーク事業: #REF!
Name 見守り訪問事業: #REF!
Name 広報・啓発事業: #REF!
Name 市社協助成金: #REF!
Name 支出予備: #REF!
Name 支部社協運営事業・ア: #REF!
Name 支部社協運営事業・イ: #REF!
Name 事業負担金収入: #REF!
Name 収入予備: #REF!
Name 生活支援事業: #REF!
Name 前期繰越金: #REF!
Name 大科目: #REF!
Name 地域づくり事業: #REF!
Name 福祉のまちづくりネットワーク会議事業: #REF!

Sheet 見出し
A1: 2022年度
A4: 関市社会福祉協議会富野支部
A5: 出納簿

Sheet 支部社協報告確認表
B1: 支部社協報告様式確認表
B2: 下記について、変更があり次第都度内容を更新し、データにより提出してください。
B3: 提出物 | C3: 入力方法
A4: 2 | B4: 福祉のまちづくりネットワーク会議計画書 | C4: 福祉のまちづくりネットワーク会議の開催前に提出してください。
A5: 3 | B5: 福祉のまちづくりネットワーク会議報告書 | C5: 福祉のまちづくりネットワーク会議の終了後速やかに提出してください。
A6: 4 | B6: ふれあい・いきいきサロン一覧 | C6: 変更が生じた都度提出。 代表者・場所等の内容に変更がある場合、新規サロンの立ち上げ、閉鎖中のサロンの再開、既存のサロンの閉鎖等がある場合は変更が生じた都度、赤字で訂正の上、提出してください。メールにてデータの提出もできます。 | D6: ※年度実施計画が「有」のサロンについてのみ「サロン保険」の加入をいたします。サロン保険は「参加人数」「場所」を指定して加入しています。特に場所が指定と違う場合保険金がおりない可能性がありますので必ず実態に合わせて入力をしてください。
A7: 5 | B7: 子育てサロン・多世代型サロン一覧 | C7: 変更が生じた都度提出。 代表者等の内容に変更がある場合や新規サロンの立ち上げ、既存のサロンの閉鎖等がある場合は赤字で訂正の上、提出してください。メールにてデータの提出もできます。
A8: 6 | B8: ふれあい・いきいきサロン実施報告書（前期分） | C8: 4月～9月に実施したふれあい・いきいきサロンの実施状況を入力してください。 ※領収書（原本）を提出してください。確認後返却いたします。
A9: 7 | B9: ふれあい・いきいきサロン実施報告書（後期分） | C9: 10月～3月に実施したふれあい・いきいきサロンの実施状況を入力してください。 ※別途領収書（原本）を提出してください。確認後返却します。
A10: 8 | B10: 福祉委員名簿の変更 | C10: 福祉委員に変更がある場合には、福祉員名簿を赤字で訂正の上、提出してください。 ※「基本情報」の「福祉委員任期」についても別途変更してください。
A11: 9 | B11: 関市社会福祉協議会 支部長報告書 | C11: 支部長の交代がある場合はご提出ください。

Sheet 基本情報
A2: 支部社協名 | B2: 関市社会福祉協議会 | C2: わかくさ支部
A3: 会計年度 | B3: 令和８年度 | C3: （令和8年4月1日から令和9年3月31日）
A4: 福祉委員任期 | B4: 令和8年4月1日から令和10年3月31日
A5: 支部長名 | B5: 若草太郎
A6: 会長名 | B6: 会 長 北 瀨 美 幸

Sheet 福祉のまちづくりネットワーク会議計画書（様式第6号）
A1: （様式第６号）
H2: 年 月 日
B3: =基本情報!B3 -> 令和８年度 | C3: 福祉のまちづくりネットワーク会議計画書
G6: =基本情報!C2 -> わかくさ支部
A8: 【日程・開催回数など】
A11: 【開催場所】
A14: 【メンバー】
A17: 【内容】
A18: テーマ：
A19: 内 容：

Sheet 福祉のまちづくりネットワーク会議報告書（様式第9号）
A1: （様式第９号）
H2: 年 月 日
B3: =基本情報!B3 -> 令和８年度 | C3: 福祉のまちづくりネットワーク会議報告書
G5: =基本情報!C2 -> わかくさ支部
A8: 【実施日】
A9: ① | B9: 月 日 曜日 ： ～ ：
A10: ② | B10: 月 日 曜日 ： ～ ：
A11: ③ | B11: 月 日 曜日 ： ～ ：
A12: ④ | B12: 月 日 曜日 ： ～ ：
A13: ⑤ | B13: 月 日 曜日 ： ～ ：
A15: 【メンバー】
A18: 【テーマ】
A21: 【課題および今後の活動】

Sheet ふれあい・いきいきサロン一覧
A1: 支部名 | B1: サロン名 | C1: 会場名 | D1: 立ち上げ日 | E1: 今年度実施計画の有無 | F1: 開催日時 | G1: 年間実施回数 | H1: 参加人数平均 | I1: 参加費（１人） | J1: 対象 | K1: 実施内容 | L1: 代表者名 | M1: 連絡先 | N1: 郵便番号 | O1: 住所 | P1: 備考

Sheet 子育てサロン・多世代型サロン一覧
A1: 支部名 | B1: サロン名 | C1: 会場名 | D1: 立ち上げ日 | E1: 今年度実施計画の有無 | F1: 開催日時 | G1: 年間実施回数 | H1: 参加人数平均 | I1: 参加費(1人) | J1: 対象 | K1: 実施内容 | L1: 代表者名 | M1: 連絡先 | N1: 郵便番号 | O1: 住所 | P1: 備考

Sheet サロン実施報告書（様式第8号）前期
A1: （様式第８号） | M1: 年 月 日
C2: ふれあい・いきいきサロン実施報告書（前期） | L2: =基本情報!C2 -> わかくさ支部
A4: 実施日 | B4: サロン名 | C4: 会場名 | D4: 参加者数 | E4: 経費 | F4: 参加費 | G4: 自主財源 | H4: 実費 | I4: 助成可能額 | J4: 実費－助成可能額 | K4: サロン助成金 | L4: ふれあい事業 から補填 | M4: その他支出 から補填
C5: =INDEX(ふれあい・いきいきサロン一覧!C:C,MATCH(B5,ふれあい・いきいきサロン一覧!B:B,0)) -> #N/A | H5: =IF(E5-F5-G5>=0,E5-F5-G5,0) -> 0 | I5: =IF(D5*200<5000,D5*200,5000) -> 0 | J5: =H5-I5 -> 0 | K5: =IF(J5<=0,H5,I5) -> 0
C6: =INDEX(ふれあい・いきいきサロン一覧!C:C,MATCH(B6,ふれあい・いきいきサロン一覧!B:B,0)) -> #N/A | H6: =IF(E6-F6-G6>=0,E6-F6-G6,0) -> 0 | I6: =IF(D6*200<5000,D6*200,5000) -> 0 | J6: =H6-I6 -> 0 | K6: =IF(J6<=0,H6,I6) -> 0
C7: =INDEX(ふれあい・いきいきサロン一覧!C:C,MATCH(B7,ふれあい・いきいきサロン一覧!B:B,0)) -> #N/A | H7: =IF(E7-F7-G7>=0,E7-F7-G7,0) -> 0 | I7: =IF(D7*200<5000,D7*200,5000) -> 0 | J7: =H7-I7 -> 0 | K7: =IF(J7<=0,H7,I7) -> 0
C8: =INDEX(ふれあい・いきいきサロン一覧!C:C,MATCH(B8,ふれあい・いきいきサロン一覧!B:B,0)) -> #N/A | H8: =IF(E8-F8-G8>=0,E8-F8-G8,0) -> 0 | I8: =IF(D8*200<5000,D8*200,5000) -> 0 | J8: =H8-I8 -> 0 | K8: =IF(J8<=0,H8,I8) -> 0
C9: =INDEX(ふれあい・いきいきサロン一覧!C:C,MATCH(B9,ふれあい・いきいきサロン一覧!B:B,0)) -> #N/A | H9: =IF(E9-F9-G9>=0,E9-F9-G9,0) -> 0 | I9: =IF(D9*200<5000,D9*200,5000) -> 0 | J9: =H9-I9 -> 0 | K9: =IF(J9<=0,H9,I9) -> 0
C10: =INDEX(ふれあい・いきいきサロン一覧!C:C,MATCH(B10,ふれあい・いきいきサロン一覧!B:B,0)) -> #N/A | H10: =IF(E10-F10-G10>=0,E10-F10-G10,0) -> 0 | I10: =IF(D10*200<5000,D10*200,5000) -> 0 | J10: =H10-I10 -> 0 | K10: =IF(J10<=0,H10,I10) -> 0
C11: =INDEX(ふれあい・いきいきサロン一覧!C:C,MATCH(B11,ふれあい・いきいきサロン一覧!B:B,0)) -> #N/A | H11: =IF(E11-F11-G11>=0,E11-F11-G11,0) -> 0 | I11: =IF(D11*200<5000,D11*200,5000) -> 0 | J11: =H11-I11 -> 0 | K11: =IF(J11<=0,H11,I11) -> 0
C12: =INDEX(ふれあい・いきいきサロン一覧!C:C,MATCH(B12,ふれあい・いきいきサロン一覧!B:B,0)) -> #N/A | H12: =IF(E12-F12-G12>=0,E12-F12-G12,0) -> 0 | I12: =IF(D12*200<5000,D12*200,5000) -> 0 | J12: =H12-I12 -> 0 | K12: =IF(J12<=0,H12,I12) -> 0
C13: =INDEX(ふれあい・いきいきサロン一覧!C:C,MATCH(B13,ふれあい・いきいきサロン一覧!B:B,0)) -> #N/A | H13: =IF(E13-F13-G13>=0,E13-F13-G13,0) -> 0 | I13: =IF(D13*200<5000,D13*200,5000) -> 0 | J13: =H13-I13 -> 0 | K13: =IF(J13<=0,H13,I13) -> 0
C14: =INDEX(ふれあい・いきいきサロン一覧!C:C,MATCH(B14,ふれあい・いきいきサロン一覧!B:B,0)) -> #N/A | H14: =IF(E14-F14-G14>=0,E14-F14-G14,0) -> 0 | I14: =IF(D14*200<5000,D14*200,5000) -> 0 | J14: =H14-I14 -> 0 | K14: =IF(J14<=0,H14,I14) -> 0
C15: =INDEX(ふれあい・いきいきサロン一覧!C:C,MATCH(B15,ふれあい・いきいきサロン一覧!B:B,0)) -> #N/A | H15: =IF(E15-F15-G15>=0,E15-F15-G15,0) -> 0 | I15: =IF(D15*200<5000,D15*200,5000) -> 0 | J15: =H15-I15 -> 0 | K15: =IF(J15<=0,H15,I15) -> 0
C16: =INDEX(ふれあい・いきいきサロン一覧!C:C,MATCH(B16,ふれあい・いきいきサロン一覧!B:B,0)) -> #N/A | H16: =IF(E16-F16-G16>=0,E16-F16-G16,0) -> 0 | I16: =IF(D16*200<5000,D16*200,5000) -> 0 | J16: =H16-I16 -> 0 | K16: =IF(J16<=0,H16,I16) -> 0
... C84: =INDEX(ふれあい・いきいきサロン一覧!C:C,MATCH(B84,ふれあい・いきいきサロン一覧!B:B,0)) -> #N/A | H84: =IF(E84-F84-G84>=0,E84-F84-G84,0) -> 0 | I84: =IF(D84*200<5000,D84*200,5000) -> 0 | J84: =H84-I84 -> 0 | K84: =IF(J84<=0,H84,I84) -> 0
A85: 合 計 | B85: 実施回数 | C85: =COUNTA(A5:A84) -> 0 | D85: =SUM(D5:D84) -> 0 | E85: =SUM(E5:E84) -> 0 | F85: =SUM(F5:F84) -> 0 | G85: =SUM(G5:G84) -> 0 | H85: =SUM(H5:H84) -> 0 | I85: =SUM(I5:I84) -> 0 | J85: =SUM(J70:J84) -> 0 | K85: =SUM(K5:K84) -> 0 | L85: =SUM(L5:L84) -> 0 | M85: =SUM(M5:M84) -> 0
A86: 具体的な実施内容（特にどのサロンでどんなことを行ったか。工夫した点など）
A88: ※経費の精算には必ずレシートまたは領収書が必要です

Sheet サロン実施報告書（様式第8号）後期
A1: （様式第８号） | M1: 年 月 日
C2: ふれあい・いきいきサロン実施報告書（後期） | L2: =基本情報!C2 -> わかくさ支部
A4: 実施日 | B4: サロン名 | C4: 会場名 | D4: 参加者数 | E4: 経費 | F4: 参加費 | G4: 自主財源 | H4: 実費 | I4: 助成可能額 | J4: 実費－助成可能額 | K4: サロン助成金 | L4: ふれあい事業 から補填 | M4: その他支出 から補填
C5: =INDEX(ふれあい・いきいきサロン一覧!C:C,MATCH(B5,ふれあい・いきいきサロン一覧!B:B,0)) -> #N/A | H5: =IF(E5-F5-G5>=0,E5-F5-G5,0) -> 0 | I5: =IF(D5*200<5000,D5*200,5000) -> 0 | J5: =H5-I5 -> 0 | K5: =IF(J5<=0,H5,I5) -> 0
C6: =INDEX(ふれあい・いきいきサロン一覧!C:C,MATCH(B6,ふれあい・いきいきサロン一覧!B:B,0)) -> #N/A | H6: =IF(E6-F6-G6>=0,E6-F6-G6,0) -> 0 | I6: =IF(D6*200<5000,D6*200,5000) -> 0 | J6: =H6-I6 -> 0 | K6: =IF(J6<=0,H6,I6) -> 0
C7: =INDEX(ふれあい・いきいきサロン一覧!C:C,MATCH(B7,ふれあい・いきいきサロン一覧!B:B,0)) -> #N/A | H7: =IF(E7-F7-G7>=0,E7-F7-G7,0) -> 0 | I7: =IF(D7*200<5000,D7*200,5000) -> 0 | J7: =H7-I7 -> 0 | K7: =IF(J7<=0,H7,I7) -> 0
C8: =INDEX(ふれあい・いきいきサロン一覧!C:C,MATCH(B8,ふれあい・いきいきサロン一覧!B:B,0)) -> #N/A | H8: =IF(E8-F8-G8>=0,E8-F8-G8,0) -> 0 | I8: =IF(D8*200<5000,D8*200,5000) -> 0 | J8: =H8-I8 -> 0 | K8: =IF(J8<=0,H8,I8) -> 0
C9: =INDEX(ふれあい・いきいきサロン一覧!C:C,MATCH(B9,ふれあい・いきいきサロン一覧!B:B,0)) -> #N/A | H9: =IF(E9-F9-G9>=0,E9-F9-G9,0) -> 0 | I9: =IF(D9*200<5000,D9*200,5000) -> 0 | J9: =H9-I9 -> 0 | K9: =IF(J9<=0,H9,I9) -> 0
C10: =INDEX(ふれあい・いきいきサロン一覧!C:C,MATCH(B10,ふれあい・いきいきサロン一覧!B:B,0)) -> #N/A | H10: =IF(E10-F10-G10>=0,E10-F10-G10,0) -> 0 | I10: =IF(D10*200<5000,D10*200,5000) -> 0 | J10: =H10-I10 -> 0 | K10: =IF(J10<=0,H10,I10) -> 0
C11: =INDEX(ふれあい・いきいきサロン一覧!C:C,MATCH(B11,ふれあい・いきいきサロン一覧!B:B,0)) -> #N/A | H11: =IF(E11-F11-G11>=0,E11-F11-G11,0) -> 0 | I11: =IF(D11*200<5000,D11*200,5000) -> 0 | J11: =H11-I11 -> 0 | K11: =IF(J11<=0,H11,I11) -> 0
C12: =INDEX(ふれあい・いきいきサロン一覧!C:C,MATCH(B12,ふれあい・いきいきサロン一覧!B:B,0)) -> #N/A | H12: =IF(E12-F12-G12>=0,E12-F12-G12,0) -> 0 | I12: =IF(D12*200<5000,D12*200,5000) -> 0 | J12: =H12-I12 -> 0 | K12: =IF(J12<=0,H12,I12) -> 0
C13: =INDEX(ふれあい・いきいきサロン一覧!C:C,MATCH(B13,ふれあい・いきいきサロン一覧!B:B,0)) -> #N/A | H13: =IF(E13-F13-G13>=0,E13-F13-G13,0) -> 0 | I13: =IF(D13*200<5000,D13*200,5000) -> 0 | J13: =H13-I13 -> 0 | K13: =IF(J13<=0,H13,I13) -> 0
C14: =INDEX(ふれあい・いきいきサロン一覧!C:C,MATCH(B14,ふれあい・いきいきサロン一覧!B:B,0)) -> #N/A | H14: =IF(E14-F14-G14>=0,E14-F14-G14,0) -> 0 | I14: =IF(D14*200<5000,D14*200,5000) -> 0 | J14: =H14-I14 -> 0 | K14: =IF(J14<=0,H14,I14) -> 0
C15: =INDEX(ふれあい・いきいきサロン一覧!C:C,MATCH(B15,ふれあい・いきいきサロン一覧!B:B,0)) -> #N/A | H15: =IF(E15-F15-G15>=0,E15-F15-G15,0) -> 0 | I15: =IF(D15*200<5000,D15*200,5000) -> 0 | J15: =H15-I15 -> 0 | K15: =IF(J15<=0,H15,I15) -> 0
C16: =INDEX(ふれあい・いきいきサロン一覧!C:C,MATCH(B16,ふれあい・いきいきサロン一覧!B:B,0)) -> #N/A | H16: =IF(E16-F16-G16>=0,E16-F16-G16,0) -> 0 | I16: =IF(D16*200<5000,D16*200,5000) -> 0 | J16: =H16-I16 -> 0 | K16: =IF(J16<=0,H16,I16) -> 0
... C84: =INDEX(ふれあい・いきいきサロン一覧!C:C,MATCH(B84,ふれあい・いきいきサロン一覧!B:B,0)) -> #N/A | H84: =IF(E84-F84-G84>=0,E84-F84-G84,0) -> 0 | I84: =IF(D84*200<5000,D84*200,5000) -> 0 | J84: =H84-I84 -> 0 | K84: =IF(J84<=0,H84,I84) -> 0
A85: 合 計 | B85: 実施回数 | C85: =COUNTA(A5:A84) -> 0 | D85: =SUM(D5:D84) -> 0 | E85: =SUM(E5:E84) -> 0 | F85: =SUM(F5:F84) -> 0 | G85: =SUM(G5:G84) -> 0 | H85: =SUM(H5:H84) -> 0 | I85: =SUM(I5:I84) -> 0 | J85: =SUM(J70:J84) -> 0 | K85: =SUM(K5:K84) -> 0 | L85: =SUM(L5:L84) -> 0 | M85: =SUM(M5:M84) -> 0
A86: 具体的な実施内容（特にどのサロンでどんなことを行ったか。工夫した点など）
A88: ※経費の精算には必ずレシートまたは領収書が必要です

Sheet サロン精算報告書
A1: ふれあい・いきいきサロン 報告及び精算書
A2: サロン名 | H2: 会場名
A3: 開 催 日 | B3: 令和 | D3: 年 | F3: 月 | H3: 日 | I3: （ | K3: ） | M3: ～
A4: 内 容
B6: 利用者数：（A）
B7: スタッフ数：（B） | G7: 経費合計：（C） | K7: ←下部にレシートや領収書を添付
G8: 参加費：（D） | K8: ※ふれあい事業から補填する場合は 人数×100円以上徴収
A9: 参加者数：（A＋B）＝ | C9: =C6+C7 -> 0 | G9: 自主財源：（E） | K9: ※サロンが持つ自主財源 例）自治会等からの補助金など
A11: 〈レシート・領収書〉
B23: 支部社協記入欄
H25: ※左記３つの金額のうち最少額がサロン助成金となる
A26: （C)－（D)－（E)＝ | D26: =H7-H8-H9 -> 0 | H26: サロン助成金：（F)
A27: サロン助成金【200円×人数】＝ | D27: =C9*200 -> 0 | H27: =MIN(D26:D28) -> 0 | K27: 【支出科目】ふれあいいきいきサロン事業
A28: サロン助成金【1回の上限】＝ | D28: 5000
G30: 超過分を補填する場合：（C)－(D)－(E)－(F)＝ | H30: =D26-H27 -> 0 | K30: 【支出科目】ふれあい事業orその他支出

Sheet 福祉委員名簿
A1: 福 祉 委 員 名 簿
F2: =基本情報!C2 -> わかくさ支部
D3: 任期： | E3: =基本情報!B4 -> 令和8年4月1日から令和10年3月31日
A4: № | B4: フリガナ 氏 名 | C4: 住 所 | D4: 電話番号 | E4: 自治会名 | F4: 備考 （前任者氏名他）
A5: 1
A6: 2
A7: 3
A8: 4
A9: 5
A10: 6
A11: 7
A12: 8
A13: 9
A14: 10
A15: 11
A16: 12
... A84: 80
A85: ※継続していただける方は、№に○印をお願いいたします。

Sheet 支部長報告書
A1: 関市社会福祉協議会 支部長報告書
A2: 令和 年 月 日
A3: この度、私が支部長に選任されましたので、ここにご報告いたします。
A4: 支 部 名 | B4: =基本情報!C2 -> わかくさ支部
A5: ふりがな 支部長名
A6: 生年月日 | B6: 年 月 日生
A7: 住 所 | B7: 〒
B8: 関市
A9: 連 絡 先 | B9: 電話番号（ ） －
B10: Ｆ Ａ Ｘ（ ） －
B11: 携帯電話（ ） －
A12: E-mail
